BEGIN:VCALENDAR
VERSION:2.0
PRODID:-//Agenda Culturel Scène des Mondes//agenda::fr
METHOD:PUBLISH
X-WR-CALNAME:Agenda Culturel Scène des Mondes
X-WR-CALDESC:Toute l'actualité culturelle d'Alès et de son agglomération : conférences\, spectacles\, expositions\, musique...
X-WR-RELCALID:69319016
BEGIN:VEVENT
UID:69319016//68814417//2026-04-11//12:00:00Z
DTSTART:20260411T120000Z
DTEND:20260411T160000Z
DTSTAMP:20260422T140800Z
TZID:Europe-Paris
SUMMARY:Exposition "20 000 yeux sous les mers"
DESCRIPTION:Exposition produite par le Centre de l'Imaginaire Scientifique 
 et Technique (CIST) Voir plus: https://openagenda.com/agenda-culturel-scen
 e-des-mondes/events/exposition-20-000-yeux-sous-les-mers
STATUS:CONFIRMED
URL:https://openagenda.com/agenda-culturel-scene-des-mondes/events/expositi
 on-20-000-yeux-sous-les-mers
LAST-MODIFIED:20260413T095100Z
LOCATION:Pôle culturel et scientifique de Rochebelle - 155 faubourg de Roch
 ebelle\, 30100 Alès
GEO:44.130064;4.068028
ORGANIZER:OA
END:VEVENT
END:VCALENDAR