BEGIN:VCALENDAR
VERSION:2.0
PRODID:-//Agenda Culturel Scène des Mondes//agenda::fr
METHOD:PUBLISH
X-WR-CALNAME:Agenda Culturel Scène des Mondes
X-WR-CALDESC:Toute l'actualité culturelle d'Alès et de son agglomération : conférences\, spectacles\, expositions\, musique...
X-WR-RELCALID:69319016
BEGIN:VEVENT
UID:69319016//3675754//2026-05-22//12:00:00Z
DTSTART:20260522T120000Z
DTEND:20260522T183000Z
DTSTAMP:20260422T140800Z
TZID:Europe-Paris
SUMMARY:EXPO PHOTO
DESCRIPTION:Le club photo REGARD organise son expo annuelle du 24 au 26 avr
 il 2026 Voir plus: https://openagenda.com/agenda-culturel-scene-des-mondes
 /events/expo-photo-2831962
STATUS:CONFIRMED
URL:https://openagenda.com/agenda-culturel-scene-des-mondes/events/expo-pho
 to-2831962
LAST-MODIFIED:20260327T101400Z
LOCATION:Hotel de ville 159\, route d'Alès 30140 Bagard - 159\, route d'Alè
 s
GEO:44.073125;4.05291
ORGANIZER:OA
END:VEVENT
END:VCALENDAR