BEGIN:VCALENDAR
VERSION:2.0
PRODID:-//Agenda Culturel Scène des Mondes//agenda::fr
METHOD:PUBLISH
X-WR-CALNAME:Agenda Culturel Scène des Mondes
X-WR-CALDESC:Toute l'actualité culturelle d'Alès et de son agglomération : conférences\, spectacles\, expositions\, musique...
X-WR-RELCALID:69319016
BEGIN:VEVENT
UID:69319016//57141149//2026-05-06//08:00:00Z
DTSTART:20260506T080000Z
DTEND:20260506T090000Z
DTSTAMP:20260422T140300Z
TZID:Europe-Paris
SUMMARY:Envie d’apprendre à conter ?
DESCRIPTION:Ateliers animés par Mme Guérin. Voir plus: https://openagenda.c
 om/agenda-culturel-scene-des-mondes/events/envie-dapprendre-a-conter
STATUS:CONFIRMED
URL:https://openagenda.com/agenda-culturel-scene-des-mondes/events/envie-da
 pprendre-a-conter
LAST-MODIFIED:20260410T085200Z
LOCATION:Médiathèque de Salindres - 31 rue de Cambis\, 30340 Salindres
GEO:44.167632;4.160822
ORGANIZER:OA
END:VEVENT
END:VCALENDAR