BEGIN:VCALENDAR
VERSION:2.0
PRODID:-//Agenda Culturel Scène des Mondes//agenda::fr
METHOD:PUBLISH
X-WR-CALNAME:Agenda Culturel Scène des Mondes
X-WR-CALDESC:Toute l'actualité culturelle d'Alès et de son agglomération : conférences\, spectacles\, expositions\, musique...
X-WR-RELCALID:69319016
BEGIN:VEVENT
UID:69319016//37462811//2026-05-20//08:00:00Z
DTSTART:20260520T080000Z
DTEND:20260520T100000Z
DTSTAMP:20260422T153900Z
TZID:Europe-Paris
SUMMARY:En roue livres
DESCRIPTION:Des histoires à découvrir pendant une balade avec Céline. Voir 
 plus: https://openagenda.com/agenda-culturel-scene-des-mondes/events/en-ro
 ue-livres-4330967
STATUS:CONFIRMED
URL:https://openagenda.com/agenda-culturel-scene-des-mondes/events/en-roue-
 livres-4330967
LAST-MODIFIED:20260410T085300Z
LOCATION:Tour Bécamel - Chemin de la Transhumance 30340 Salindres
GEO:44.162359;4.163265
ORGANIZER:OA
END:VEVENT
END:VCALENDAR