BEGIN:VCALENDAR
VERSION:2.0
PRODID:-//Agenda Culturel Scène des Mondes//agenda::fr
METHOD:PUBLISH
X-WR-CALNAME:Agenda Culturel Scène des Mondes
X-WR-CALDESC:Toute l'actualité culturelle d'Alès et de son agglomération : conférences\, spectacles\, expositions\, musique...
X-WR-RELCALID:69319016
BEGIN:VEVENT
UID:69319016//4886161//2026-05-08//17:30:00Z
DTSTART:20260508T173000Z
DTEND:20260508T213000Z
DTSTAMP:20260422T120900Z
TZID:Europe-Paris
SUMMARY:TREMPLIN DOUBLE DRUMS
DESCRIPTION:Concours pour batteurs(ses) de débutant à confirmé Voir plus: h
 ttps://openagenda.com/agenda-culturel-scene-des-mondes/events/double-drums
STATUS:CONFIRMED
URL:https://openagenda.com/agenda-culturel-scene-des-mondes/events/double-d
 rums
LAST-MODIFIED:20260408T142200Z
LOCATION:Urban Parc - 17 rue Marcel Paul\, 30100 Alès
GEO:44.130273;4.079146
ORGANIZER:OA
END:VEVENT
END:VCALENDAR