BEGIN:VCALENDAR
VERSION:2.0
PRODID:-//Agenda Culturel Scène des Mondes//agenda::fr
METHOD:PUBLISH
X-WR-CALNAME:Agenda Culturel Scène des Mondes
X-WR-CALDESC:Toute l'actualité culturelle d'Alès et de son agglomération : conférences\, spectacles\, expositions\, musique...
X-WR-RELCALID:69319016
BEGIN:VEVENT
UID:69319016//47792036//2026-04-22//13:00:00Z
DTSTART:20260422T130000Z
DTEND:20260422T160000Z
DTSTAMP:20260420T175000Z
TZID:Europe-Paris
SUMMARY:Deux Pierres d’un coup • Cie Charge Maximale de Rupture
DESCRIPTION:Retrouvez-les à colorCIRCus\, pour des performances dans les qu
 artiers d’Alès. Voir plus: https://openagenda.com/agenda-culturel-scene-de
 s-mondes/events/deux-pierres-dun-coup-cie-charge-maximale-de-rupture
STATUS:CONFIRMED
URL:https://openagenda.com/agenda-culturel-scene-des-mondes/events/deux-pie
 rres-dun-coup-cie-charge-maximale-de-rupture
LAST-MODIFIED:20260112T112900Z
LOCATION:La Verrerie\, Pôle National Cirque Occitanie - 155 rue Faubourg de
  Rochebelle\, 30100 Alès
GEO:44.130064;4.068028
ORGANIZER:OA
END:VEVENT
END:VCALENDAR