BEGIN:VCALENDAR
VERSION:2.0
PRODID:-//Agenda Culturel Scène des Mondes//agenda::fr
METHOD:PUBLISH
X-WR-CALNAME:Agenda Culturel Scène des Mondes
X-WR-CALDESC:Toute l'actualité culturelle d'Alès et de son agglomération : conférences\, spectacles\, expositions\, musique...
X-WR-RELCALID:69319016
BEGIN:VEVENT
UID:69319016//56709016//2026-04-25//11:30:00Z
DTSTART:20260425T113000Z
DTEND:20260425T150000Z
DTSTAMP:20260420T064200Z
TZID:Europe-Paris
SUMMARY:Demain se danse
DESCRIPTION:Démonstrations\, initiations\, cultures urbaines\, … Voir plus:
  https://openagenda.com/agenda-culturel-scene-des-mondes/events/demain-se-
 danse
STATUS:CONFIRMED
URL:https://openagenda.com/agenda-culturel-scene-des-mondes/events/demain-s
 e-danse
LAST-MODIFIED:20260325T083100Z
LOCATION:Place des Martyrs de la Résistance - Place des Martyrs de la Résis
 tance\, 30100 Alès
GEO:44.126388;4.078448
ORGANIZER:OA
END:VEVENT
END:VCALENDAR