BEGIN:VCALENDAR
VERSION:2.0
PRODID:-//Agenda Culturel Scène des Mondes//agenda::fr
METHOD:PUBLISH
X-WR-CALNAME:Agenda Culturel Scène des Mondes
X-WR-CALDESC:Toute l'actualité culturelle d'Alès et de son agglomération : conférences\, spectacles\, expositions\, musique...
X-WR-RELCALID:69319016
BEGIN:VEVENT
UID:69319016//84994460//2026-05-16//08:00:00Z
DTSTART:20260516T080000Z
DTEND:20260516T210000Z
DTSTAMP:20260424T101200Z
TZID:Europe-Paris
SUMMARY:Danse country et concert
DESCRIPTION:Journée workshop de danse country avec le chorégraphe internati
 onal Pol F. Ryan et Audrey Rose. Bal à 18h30 et concert des Rusty Legs à 2
 1h. Voir plus: https://openagenda.com/agenda-culturel-scene-des-mondes/eve
 nts/danse-country-et-concert
STATUS:CONFIRMED
URL:https://openagenda.com/agenda-culturel-scene-des-mondes/events/danse-co
 untry-et-concert
LAST-MODIFIED:20260420T093400Z
LOCATION:Centre Socio-Culturel - Les prés de Trouillas\, 30340 Rousson
GEO:44.182314;4.145168
ORGANIZER:OA
END:VEVENT
END:VCALENDAR