BEGIN:VCALENDAR
VERSION:2.0
PRODID:-//Agenda Culturel Scène des Mondes//agenda::fr
METHOD:PUBLISH
X-WR-CALNAME:Agenda Culturel Scène des Mondes
X-WR-CALDESC:Toute l'actualité culturelle d'Alès et de son agglomération : conférences\, spectacles\, expositions\, musique...
X-WR-RELCALID:69319016
BEGIN:VEVENT
UID:69319016//68584058//2026-02-24//13:00:00Z
DTSTART:20260224T130000Z
DTEND:20260224T170000Z
DTSTAMP:20260420T130000Z
TZID:Europe-Paris
SUMMARY:Dans l’atelier du copiste
DESCRIPTION:Sélectionnez l’œuvre de votre choix dans notre collection\, pre
 nez le temps pour la parcourir\, laissez vous immerger dans l’univers de l
 ’artiste et endossez durant quelques heures le métier de copiste. Voir plu
 s: https://openagenda.com/agenda-culturel-scene-des-mondes/events/dans-lat
 elier-du-copiste
STATUS:CONFIRMED
URL:https://openagenda.com/agenda-culturel-scene-des-mondes/events/dans-lat
 elier-du-copiste
LAST-MODIFIED:20260420T081200Z
LOCATION:Musée du Colombier - Rue Jean Mayodon\, 30100 Alès
GEO:44.129151;4.081047
ORGANIZER:OA
END:VEVENT
END:VCALENDAR