BEGIN:VCALENDAR
VERSION:2.0
PRODID:-//Agenda Culturel Scène des Mondes//agenda::fr
METHOD:PUBLISH
X-WR-CALNAME:Agenda Culturel Scène des Mondes
X-WR-CALDESC:Toute l'actualité culturelle d'Alès et de son agglomération : conférences\, spectacles\, expositions\, musique...
X-WR-RELCALID:69319016
BEGIN:VEVENT
UID:69319016//9269023//2026-05-12//12:30:00Z
DTSTART:20260512T123000Z
DTEND:20260512T140000Z
DTSTAMP:20260422T155100Z
TZID:Europe-Paris
SUMMARY:Conférences et débats
DESCRIPTION:"Les Grandes Découvertes (1492-1522)" avec Jean-Paul Chabrol. V
 oir plus: https://openagenda.com/agenda-culturel-scene-des-mondes/events/c
 onferences-et-debats-8652077
STATUS:CONFIRMED
URL:https://openagenda.com/agenda-culturel-scene-des-mondes/events/conferen
 ces-et-debats-8652077
LAST-MODIFIED:20260420T074200Z
LOCATION:Foyer paroissial - 83 chemin de Sauve\, 30350 Lézan
GEO:44.012366;4.049832
ORGANIZER:OA
END:VEVENT
END:VCALENDAR