BEGIN:VCALENDAR
VERSION:2.0
PRODID:-//Agenda Culturel Scène des Mondes//agenda::fr
METHOD:PUBLISH
X-WR-CALNAME:Agenda Culturel Scène des Mondes
X-WR-CALDESC:Toute l'actualité culturelle d'Alès et de son agglomération : conférences\, spectacles\, expositions\, musique...
X-WR-RELCALID:69319016
BEGIN:VEVENT
UID:69319016//51851677//2026-05-05//07:30:00Z
DTSTART:20260505T073000Z
DTEND:20260505T093000Z
DTSTAMP:20260422T103900Z
TZID:Europe-Paris
SUMMARY:Conférences
DESCRIPTION:Proposées par le CADREF Voir plus: https://openagenda.com/agend
 a-culturel-scene-des-mondes/events/conferences-1777269
STATUS:CONFIRMED
URL:https://openagenda.com/agenda-culturel-scene-des-mondes/events/conferen
 ces-1777269
LAST-MODIFIED:20260409T122700Z
LOCATION:Le Capitole - Place de l'Hôtel de ville\, 30100 Alès
GEO:44.124919;4.07685
ORGANIZER:OA
END:VEVENT
END:VCALENDAR