BEGIN:VCALENDAR
VERSION:2.0
PRODID:-//Agenda Culturel Scène des Mondes//agenda::fr
METHOD:PUBLISH
X-WR-CALNAME:Agenda Culturel Scène des Mondes
X-WR-CALDESC:Toute l'actualité culturelle d'Alès et de son agglomération : conférences\, spectacles\, expositions\, musique...
X-WR-RELCALID:69319016
BEGIN:VEVENT
UID:69319016//35995602//2026-04-24//16:00:00Z
DTSTART:20260424T160000Z
DTEND:20260424T180000Z
DTSTAMP:20260422T124500Z
TZID:Europe-Paris
SUMMARY:Conférence "Les institutrices et instituteurs du Gard en 1926 à tra
 vers le recensement et les nominations par commune" par René DOUSSIÈRE
DESCRIPTION:Participez au cycle de conférences « Les vendredis savants du P
 uits » à la Maison du Mineur et découvrez des thématiques scientifiques ou
  culturelles à travers des rencontres enrichissantes. Voir plus: https://o
 penagenda.com/agenda-culturel-scene-des-mondes/events/conference-les-insti
 tutrices-et-instituteurs-du-gard-en-1926-a-travers-le-recensement-et-les-n
 ominations-par-commune-par-rene-doussiere
STATUS:CONFIRMED
URL:https://openagenda.com/agenda-culturel-scene-des-mondes/events/conferen
 ce-les-institutrices-et-instituteurs-du-gard-en-1926-a-travers-le-recensem
 ent-et-les-nominations-par-commune-par-rene-doussiere
LAST-MODIFIED:20260325T104700Z
LOCATION:Maison du Mineur - Rue Victor Fumat\, 30110 La Grand'Combe
GEO:44.22069;4.034158
ORGANIZER:OA
END:VEVENT
END:VCALENDAR