BEGIN:VCALENDAR
VERSION:2.0
PRODID:-//Agenda Culturel Scène des Mondes//agenda::fr
METHOD:PUBLISH
X-WR-CALNAME:Agenda Culturel Scène des Mondes
X-WR-CALDESC:Toute l'actualité culturelle d'Alès et de son agglomération : conférences\, spectacles\, expositions\, musique...
X-WR-RELCALID:69319016
BEGIN:VEVENT
UID:69319016//82312797//2026-05-29//15:30:00Z
DTSTART:20260529T153000Z
DTEND:20260529T173000Z
DTSTAMP:20260422T103800Z
TZID:Europe-Paris
SUMMARY:Conférence "Léo Larguier\, le poète Goncourt grand'combien dans les
  années sombres (1939-1944)" par Alain Artus
DESCRIPTION:Participez au cycle de conférences « Les vendredis savants du P
 uits » à la Maison du Mineur et découvrez des thématiques scientifiques ou
  culturelles à travers des rencontres enrichissantes. Voir plus: https://o
 penagenda.com/agenda-culturel-scene-des-mondes/events/conference-leo-largu
 ier-le-poete-goncourt-grandcombien-dans-les-annees-sombres-1939-1944-par-a
 lain-artus
STATUS:CONFIRMED
URL:https://openagenda.com/agenda-culturel-scene-des-mondes/events/conferen
 ce-leo-larguier-le-poete-goncourt-grandcombien-dans-les-annees-sombres-193
 9-1944-par-alain-artus
LAST-MODIFIED:20260422T065100Z
LOCATION:Maison du Mineur - Rue Victor Fumat\, 30110 La Grand'Combe
GEO:44.22069;4.034158
ORGANIZER:OA
END:VEVENT
END:VCALENDAR