BEGIN:VCALENDAR
VERSION:2.0
PRODID:-//Agenda Culturel Scène des Mondes//agenda::fr
METHOD:PUBLISH
X-WR-CALNAME:Agenda Culturel Scène des Mondes
X-WR-CALDESC:Toute l'actualité culturelle d'Alès et de son agglomération : conférences\, spectacles\, expositions\, musique...
X-WR-RELCALID:69319016
BEGIN:VEVENT
UID:69319016//45034989//2026-10-30//17:00:00Z
DTSTART:20261030T170000Z
DTEND:20261030T190000Z
DTSTAMP:20260422T124500Z
TZID:Europe-Paris
SUMMARY:Conférence "La sidérurgie au XXème siècle à travers l'outillage" pa
 r Léo IGON
DESCRIPTION:Participez au cycle de conférences « Les vendredis savants du P
 uits » à la Maison du Mineur et découvrez des thématiques scientifiques ou
  culturelles à travers des rencontres enrichissantes. Voir plus: https://o
 penagenda.com/agenda-culturel-scene-des-mondes/events/conference-la-sideru
 rgie-au-20eme-siecle-a-travers-loutillage-par-leo-igon
STATUS:CONFIRMED
URL:https://openagenda.com/agenda-culturel-scene-des-mondes/events/conferen
 ce-la-siderurgie-au-20eme-siecle-a-travers-loutillage-par-leo-igon
LAST-MODIFIED:20260225T092900Z
LOCATION:Maison du Mineur - Rue Victor Fumat\, 30110 La Grand'Combe
GEO:44.22069;4.034158
ORGANIZER:OA
END:VEVENT
END:VCALENDAR