BEGIN:VCALENDAR
VERSION:2.0
PRODID:-//Agenda Culturel Scène des Mondes//agenda::fr
METHOD:PUBLISH
X-WR-CALNAME:Agenda Culturel Scène des Mondes
X-WR-CALDESC:Toute l'actualité culturelle d'Alès et de son agglomération : conférences\, spectacles\, expositions\, musique...
X-WR-RELCALID:69319016
BEGIN:VEVENT
UID:69319016//31332549//2026-09-07//16:30:00Z
DTSTART:20260907T163000Z
DTEND:20260907T180000Z
DTSTAMP:20260422T122000Z
TZID:Europe-Paris
SUMMARY:Conférence "Il y a 40 ans : l’aven de l’Arquet" par Evelyne CREGUT-
 BONNOURE et Nicolas LATEUR
DESCRIPTION:Participez au cycle de conférences du Préhistorama et explorez 
 la Préhistoire\, l’archéologie et la culture locale lors d’une rencontre e
 nrichissante avec un conférencier invité. Voir plus: https://openagenda.co
 m/agenda-culturel-scene-des-mondes/events/conference-il-y-a-40-ans-laven-d
 e-larquet-par-evelyne-cregut-bonnoure-et-nicolas-lateur
STATUS:CONFIRMED
URL:https://openagenda.com/agenda-culturel-scene-des-mondes/events/conferen
 ce-il-y-a-40-ans-laven-de-larquet-par-evelyne-cregut-bonnoure-et-nicolas-l
 ateur
LAST-MODIFIED:20260213T085000Z
LOCATION:Préhistorama - 75 chemin de Panissière\, 30340 Rousson
GEO:44.205396;4.131763
ORGANIZER:OA
END:VEVENT
END:VCALENDAR