BEGIN:VCALENDAR
VERSION:2.0
PRODID:-//Agenda Culturel Scène des Mondes//agenda::fr
METHOD:PUBLISH
X-WR-CALNAME:Agenda Culturel Scène des Mondes
X-WR-CALDESC:Toute l'actualité culturelle d'Alès et de son agglomération : conférences\, spectacles\, expositions\, musique...
X-WR-RELCALID:69319016
BEGIN:VEVENT
UID:69319016//72778128//2026-12-18//17:00:00Z
DTSTART:20261218T170000Z
DTEND:20261218T190000Z
DTSTAMP:20260422T103800Z
TZID:Europe-Paris
SUMMARY:Film "Et oui je ne me serai jamais éloigné de mon clocher " par Mar
 c LAFORÊT
DESCRIPTION:Participez au cycle de conférences « Les vendredis savants du P
 uits » à la Maison du Mineur et découvrez des thématiques scientifiques ou
  culturelles à travers des rencontres enrichissantes. Voir plus: https://o
 penagenda.com/agenda-culturel-scene-des-mondes/events/conference-film-et-o
 ui-je-ne-me-serai-jamais-eloigne-de-mon-clocher-par-marc-laforet
STATUS:CONFIRMED
URL:https://openagenda.com/agenda-culturel-scene-des-mondes/events/conferen
 ce-film-et-oui-je-ne-me-serai-jamais-eloigne-de-mon-clocher-par-marc-lafor
 et
LAST-MODIFIED:20260213T085200Z
LOCATION:Maison du Mineur - Rue Victor Fumat\, 30110 La Grand'Combe
GEO:44.22069;4.034158
ORGANIZER:OA
END:VEVENT
END:VCALENDAR