BEGIN:VCALENDAR
VERSION:2.0
PRODID:-//Agenda Culturel Scène des Mondes//agenda::fr
METHOD:PUBLISH
X-WR-CALNAME:Agenda Culturel Scène des Mondes
X-WR-CALDESC:Toute l'actualité culturelle d'Alès et de son agglomération : conférences\, spectacles\, expositions\, musique...
X-WR-RELCALID:69319016
BEGIN:VEVENT
UID:69319016//89342120//2026-04-22//15:00:00Z
DTSTART:20260422T150000Z
DTEND:20260422T160000Z
DTSTAMP:20260420T064000Z
TZID:Europe-Paris
SUMMARY:Conférence de l’Académie cévenole
DESCRIPTION:« Le plus grand incendie d’Europe\, le feu de Portes\, le 9 sep
 tembre 1985 ». Voir plus: https://openagenda.com/agenda-culturel-scene-des
 -mondes/events/conference-de-lacademie-cevenole
STATUS:CONFIRMED
URL:https://openagenda.com/agenda-culturel-scene-des-mondes/events/conferen
 ce-de-lacademie-cevenole
LAST-MODIFIED:20260312T084200Z
LOCATION:Pôle Culturel et Scientifique de Rochebelle - Auditorium - 155 rue
  du Faubourg de Rochebelle\, 30100 Alès
GEO:44.130064;4.068028
ORGANIZER:OA
END:VEVENT
END:VCALENDAR