BEGIN:VCALENDAR
VERSION:2.0
PRODID:-//Agenda Culturel Scène des Mondes//agenda::fr
METHOD:PUBLISH
X-WR-CALNAME:Agenda Culturel Scène des Mondes
X-WR-CALDESC:Toute l'actualité culturelle d'Alès et de son agglomération : conférences\, spectacles\, expositions\, musique...
X-WR-RELCALID:69319016
BEGIN:VEVENT
UID:69319016//83800330//2026-03-31//22:00:00Z
DTSTART:20260331T220000Z
DTEND:20260401T215900Z
DTSTAMP:20260422T133600Z
TZID:Europe-Paris
SUMMARY:Concours photo
DESCRIPTION:Donnez libre cours à votre créativité photographique. Voir plus
 : https://openagenda.com/agenda-culturel-scene-des-mondes/events/concours-
 photo-7555947
STATUS:CONFIRMED
URL:https://openagenda.com/agenda-culturel-scene-des-mondes/events/concours
 -photo-7555947
LAST-MODIFIED:20260402T125200Z
LOCATION:Siège social 4AH - 2 place henri barbusse
GEO:44.124875;4.079525
ORGANIZER:OA
END:VEVENT
END:VCALENDAR