BEGIN:VCALENDAR
VERSION:2.0
PRODID:-//Agenda Culturel Scène des Mondes//agenda::fr
METHOD:PUBLISH
X-WR-CALNAME:Agenda Culturel Scène des Mondes
X-WR-CALDESC:Toute l'actualité culturelle d'Alès et de son agglomération : conférences\, spectacles\, expositions\, musique...
X-WR-RELCALID:69319016
BEGIN:VEVENT
UID:69319016//52022953//2026-08-31//22:00:00Z
DTSTART:20260831T220000Z
DTEND:20260901T215900Z
DTSTAMP:20260422T121400Z
TZID:Europe-Paris
SUMMARY:Concours photo
DESCRIPTION:2e session : Abondance de Fruits Voir plus: https://openagenda.
 com/agenda-culturel-scene-des-mondes/events/concours-photo-4048743
STATUS:CONFIRMED
URL:https://openagenda.com/agenda-culturel-scene-des-mondes/events/concours
 -photo-4048743
LAST-MODIFIED:20260226T090400Z
LOCATION:Centre national de Pomologie - 21 rue Soubeyranne\, 30100 Alès
GEO:44.125265;4.074501
ORGANIZER:OA
END:VEVENT
END:VCALENDAR