BEGIN:VCALENDAR
VERSION:2.0
PRODID:-//Agenda Culturel Scène des Mondes//agenda::fr
METHOD:PUBLISH
X-WR-CALNAME:Agenda Culturel Scène des Mondes
X-WR-CALDESC:Toute l'actualité culturelle d'Alès et de son agglomération : conférences\, spectacles\, expositions\, musique...
X-WR-RELCALID:69319016
BEGIN:VEVENT
UID:69319016//97715712//2026-05-09//07:00:00Z
DTSTART:20260509T070000Z
DTEND:20260509T160000Z
DTSTAMP:20260419T164600Z
TZID:Europe-Paris
SUMMARY:Concours National de Chiens de Bergers sur Brebis
DESCRIPTION:Samedi 9 et dimanche 10 mai 2026 – Dès 9h00 en continu Voir plu
 s: https://openagenda.com/agenda-culturel-scene-des-mondes/events/concours
 -national-de-chiens-de-bergers-sur-brebis
STATUS:CONFIRMED
URL:https://openagenda.com/agenda-culturel-scene-des-mondes/events/concours
 -national-de-chiens-de-bergers-sur-brebis
LAST-MODIFIED:20260417T065200Z
LOCATION:Concoules - 30450 Concoules
GEO:44.381313;3.938382
ORGANIZER:OA
END:VEVENT
END:VCALENDAR