BEGIN:VCALENDAR
VERSION:2.0
PRODID:-//Agenda Culturel Scène des Mondes//agenda::fr
METHOD:PUBLISH
X-WR-CALNAME:Agenda Culturel Scène des Mondes
X-WR-CALDESC:Toute l'actualité culturelle d'Alès et de son agglomération : conférences\, spectacles\, expositions\, musique...
X-WR-RELCALID:69319016
BEGIN:VEVENT
UID:69319016//62645986//2026-05-09//15:00:00Z
DTSTART:20260509T150000Z
DTEND:20260509T160000Z
DTSTAMP:20260422T120900Z
TZID:Europe-Paris
SUMMARY:Concert gospel
DESCRIPTION:Concert de la chorale GN/AS Gospel\, dirigée par Fred Lewin Voi
 r plus: https://openagenda.com/agenda-culturel-scene-des-mondes/events/con
 cert-gospel-83150
STATUS:CONFIRMED
URL:https://openagenda.com/agenda-culturel-scene-des-mondes/events/concert-
 gospel-83150
LAST-MODIFIED:20260331T120800Z
LOCATION:Maison pour tous Louis Aragon - 182 Rue de Lajudie\, 30100 Alès
GEO:44.140148;4.08443
ORGANIZER:OA
END:VEVENT
END:VCALENDAR