BEGIN:VCALENDAR
VERSION:2.0
PRODID:-//Agenda Culturel Scène des Mondes//agenda::fr
METHOD:PUBLISH
X-WR-CALNAME:Agenda Culturel Scène des Mondes
X-WR-CALDESC:Toute l'actualité culturelle d'Alès et de son agglomération : conférences\, spectacles\, expositions\, musique...
X-WR-RELCALID:69319016
BEGIN:VEVENT
UID:69319016//86894810//2025-08-01//19:30:00Z
DTSTART:20250801T193000Z
DTEND:20250801T213000Z
DTSTAMP:20260422T164200Z
TZID:Europe-Paris
SUMMARY:Concert des Fous Chantants
DESCRIPTION:Hommage à Zazie Voir plus: https://openagenda.com/agenda-cultur
 el-scene-des-mondes/events/concert-des-fous-chantants
STATUS:CONFIRMED
URL:https://openagenda.com/agenda-culturel-scene-des-mondes/events/concert-
 des-fous-chantants
LAST-MODIFIED:20250722T072800Z
LOCATION:Arènes du Tempéras - Rue Amiral de Suffren\, 30100 Alès
GEO:44.122462;4.090572
ORGANIZER:OA
END:VEVENT
END:VCALENDAR