BEGIN:VCALENDAR
VERSION:2.0
PRODID:-//Agenda Culturel Scène des Mondes//agenda::fr
METHOD:PUBLISH
X-WR-CALNAME:Agenda Culturel Scène des Mondes
X-WR-CALDESC:Toute l'actualité culturelle d'Alès et de son agglomération : conférences\, spectacles\, expositions\, musique...
X-WR-RELCALID:69319016
BEGIN:VEVENT
UID:69319016//51110910//2026-05-07//18:30:00Z
DTSTART:20260507T183000Z
DTEND:20260507T193000Z
DTSTAMP:20260420T170400Z
TZID:Europe-Paris
SUMMARY:Concert de musique Baroque
DESCRIPTION:Avec Birgit Bornauw (musette de cour et cornemuse flamande) et 
 Benjamin Macke (accordéon diatonique et basse aux pieds). Voir plus: https
 ://openagenda.com/agenda-culturel-scene-des-mondes/events/concert-de-musiq
 ue-baroque-5772838
STATUS:CONFIRMED
URL:https://openagenda.com/agenda-culturel-scene-des-mondes/events/concert-
 de-musique-baroque-5772838
LAST-MODIFIED:20260410T085200Z
LOCATION:Église - 30450 Sénéchas
GEO:44.3251;4.02732
ORGANIZER:OA
END:VEVENT
END:VCALENDAR