BEGIN:VCALENDAR
VERSION:2.0
PRODID:-//Agenda Culturel Scène des Mondes//agenda::fr
METHOD:PUBLISH
X-WR-CALNAME:Agenda Culturel Scène des Mondes
X-WR-CALDESC:Toute l'actualité culturelle d'Alès et de son agglomération : conférences\, spectacles\, expositions\, musique...
X-WR-RELCALID:69319016
BEGIN:VEVENT
UID:69319016//58537818//2026-05-30//18:00:00Z
DTSTART:20260530T180000Z
DTEND:20260530T193000Z
DTSTAMP:20260422T140800Z
TZID:Europe-Paris
SUMMARY:Concert de chorales
DESCRIPTION:Avec les groupes vocaux “Moi je veux Chanter”\, “Harmony et Var
 iation” et “Mélodie Cèze”. Voir plus: https://openagenda.com/agenda-cultur
 el-scene-des-mondes/events/concert-de-chorales-9066976
STATUS:CONFIRMED
URL:https://openagenda.com/agenda-culturel-scene-des-mondes/events/concert-
 de-chorales-9066976
LAST-MODIFIED:20260410T085100Z
LOCATION:Église romane - Place de l'église\, 30960 Saint-Jean-de-Valériscle
GEO:44.232247;4.141966
ORGANIZER:OA
END:VEVENT
END:VCALENDAR