BEGIN:VCALENDAR
VERSION:2.0
PRODID:-//Agenda Culturel Scène des Mondes//agenda::fr
METHOD:PUBLISH
X-WR-CALNAME:Agenda Culturel Scène des Mondes
X-WR-CALDESC:Toute l'actualité culturelle d'Alès et de son agglomération : conférences\, spectacles\, expositions\, musique...
X-WR-RELCALID:69319016
BEGIN:VEVENT
UID:69319016//87342346//2026-05-31//15:30:00Z
DTSTART:20260531T153000Z
DTEND:20260531T163000Z
DTSTAMP:20260420T170800Z
TZID:Europe-Paris
SUMMARY:Concert : chants du monde a cappella
DESCRIPTION:Avec la chorale Terra Memoria. Voir plus: https://openagenda.co
 m/agenda-culturel-scene-des-mondes/events/concert-chants-du-monde-a-cappel
 la
STATUS:CONFIRMED
URL:https://openagenda.com/agenda-culturel-scene-des-mondes/events/concert-
 chants-du-monde-a-cappella
LAST-MODIFIED:20260413T085700Z
LOCATION:Église - 30450 Sénéchas
GEO:44.3251;4.02732
ORGANIZER:OA
END:VEVENT
END:VCALENDAR