BEGIN:VCALENDAR
VERSION:2.0
PRODID:-//Agenda Culturel Scène des Mondes//agenda::fr
METHOD:PUBLISH
X-WR-CALNAME:Agenda Culturel Scène des Mondes
X-WR-CALDESC:Toute l'actualité culturelle d'Alès et de son agglomération : conférences\, spectacles\, expositions\, musique...
X-WR-RELCALID:69319016
BEGIN:VEVENT
UID:69319016//3589184//2026-05-03//15:00:00Z
DTSTART:20260503T150000Z
DTEND:20260503T161500Z
DTSTAMP:20260422T115800Z
TZID:Europe-Paris
SUMMARY:Concert : Debussy\, Ravel\, Bizet\, Aznavour\, Saint-Saëns\, Dutill
 eux
DESCRIPTION:Concert Musicâme : de Debussy à Aznavour\, de grands classiques
  français pour une expérience musicale immersive et émouvante. Réservez vi
 te ! Voir plus: https://openagenda.com/agenda-culturel-scene-des-mondes/ev
 ents/concert-a-ales-debussy-ravel-bizet-aznavour-saint-saens-dutilleux
STATUS:CONFIRMED
URL:https://openagenda.com/agenda-culturel-scene-des-mondes/events/concert-
 a-ales-debussy-ravel-bizet-aznavour-saint-saens-dutilleux
LAST-MODIFIED:20260331T073000Z
LOCATION:Temple d'Alès - Place du Temple\, 30100 Alès
GEO:44.123616;4.074329
ORGANIZER:OA
END:VEVENT
END:VCALENDAR