BEGIN:VCALENDAR
VERSION:2.0
PRODID:-//Agenda Culturel Scène des Mondes//agenda::fr
METHOD:PUBLISH
X-WR-CALNAME:Agenda Culturel Scène des Mondes
X-WR-CALDESC:Toute l'actualité culturelle d'Alès et de son agglomération : conférences\, spectacles\, expositions\, musique...
X-WR-RELCALID:69319016
BEGIN:VEVENT
UID:69319016//66430727//2026-05-23//18:30:00Z
DTSTART:20260523T183000Z
DTEND:20260523T193000Z
DTSTAMP:20260424T101200Z
TZID:Europe-Paris
SUMMARY:Concert Franco-Québecois
DESCRIPTION:120 choristes\, solistes et orchestre. Voir plus: https://opena
 genda.com/agenda-culturel-scene-des-mondes/events/concert-5299425
STATUS:CONFIRMED
URL:https://openagenda.com/agenda-culturel-scene-des-mondes/events/concert-
 5299425
LAST-MODIFIED:20260417T085800Z
LOCATION:Cathédrale Saint-Jean-Baptiste - Place Saint-Jean\, 30100 Alès
GEO:44.123555;4.076619
ORGANIZER:OA
END:VEVENT
END:VCALENDAR