BEGIN:VCALENDAR
VERSION:2.0
PRODID:-//Agenda Culturel Scène des Mondes//agenda::fr
METHOD:PUBLISH
X-WR-CALNAME:Agenda Culturel Scène des Mondes
X-WR-CALDESC:Toute l'actualité culturelle d'Alès et de son agglomération : conférences\, spectacles\, expositions\, musique...
X-WR-RELCALID:69319016
BEGIN:VEVENT
UID:69319016//3223538//2026-05-22//18:30:00Z
DTSTART:20260522T183000Z
DTEND:20260522T193000Z
DTSTAMP:20260424T101200Z
TZID:Europe-Paris
SUMMARY:Concert Franco-Québecois
DESCRIPTION:120 choristes\, solistes et orchestre. Voir plus: https://opena
 genda.com/agenda-culturel-scene-des-mondes/events/concert-4348995
STATUS:CONFIRMED
URL:https://openagenda.com/agenda-culturel-scene-des-mondes/events/concert-
 4348995
LAST-MODIFIED:20260417T085900Z
LOCATION:Temple de Saint-Jean-du-Gard - Place Augustine Soubeiran\, 30270 S
 aint-Jean-du-Gard
GEO:44.105206;3.881051
ORGANIZER:OA
END:VEVENT
END:VCALENDAR