BEGIN:VCALENDAR
VERSION:2.0
PRODID:-//Agenda Culturel Scène des Mondes//agenda::fr
METHOD:PUBLISH
X-WR-CALNAME:Agenda Culturel Scène des Mondes
X-WR-CALDESC:Toute l'actualité culturelle d'Alès et de son agglomération : conférences\, spectacles\, expositions\, musique...
X-WR-RELCALID:69319016
BEGIN:VEVENT
UID:69319016//9109891//2026-04-04//07:00:00Z
DTSTART:20260404T070000Z
DTEND:20260404T100000Z
DTSTAMP:20260422T134100Z
TZID:Europe-Paris
SUMMARY:Club lecture
DESCRIPTION:Animé à tour de rôle par l’un des participants volontaires. Voi
 r plus: https://openagenda.com/agenda-culturel-scene-des-mondes/events/clu
 b-lecture-7182224
STATUS:CONFIRMED
URL:https://openagenda.com/agenda-culturel-scene-des-mondes/events/club-lec
 ture-7182224
LAST-MODIFIED:20260401T091200Z
LOCATION:Médiathèque de Salindres - 31 rue de Cambis\, 30340 Salindres
GEO:44.167632;4.160822
ORGANIZER:OA
END:VEVENT
END:VCALENDAR