BEGIN:VCALENDAR
VERSION:2.0
PRODID:-//Agenda Culturel Scène des Mondes//agenda::fr
METHOD:PUBLISH
X-WR-CALNAME:Agenda Culturel Scène des Mondes
X-WR-CALDESC:Toute l'actualité culturelle d'Alès et de son agglomération : conférences\, spectacles\, expositions\, musique...
X-WR-RELCALID:69319016
BEGIN:VEVENT
UID:69319016//60199946//2026-04-03//16:00:00Z
DTSTART:20260403T160000Z
DTEND:20260403T180000Z
DTSTAMP:20260422T083800Z
TZID:Europe-Paris
SUMMARY:Cinéco\, cinéma itinérant en Cévennes - Avril 2026
DESCRIPTION:L'association Cinéco\, cinéma itinérant en Cévennes\, œuvre pou
 r un cinéma accessible dans les villages ruraux. Voir plus: https://openag
 enda.com/agenda-culturel-scene-des-mondes/events/cineco-cinema-itinerant-e
 n-cevennes
STATUS:CONFIRMED
URL:https://openagenda.com/agenda-culturel-scene-des-mondes/events/cineco-c
 inema-itinerant-en-cevennes
LAST-MODIFIED:20260331T064500Z
LOCATION:Cinéma Cineco - Stevenson - 1071 avenue René Boudon\, Saint-Jean-d
 u-Gard
GEO:44.103041;3.883538
ORGANIZER:OA
END:VEVENT
END:VCALENDAR