BEGIN:VCALENDAR
VERSION:2.0
PRODID:-//Agenda Culturel Scène des Mondes//agenda::fr
METHOD:PUBLISH
X-WR-CALNAME:Agenda Culturel Scène des Mondes
X-WR-CALDESC:Toute l'actualité culturelle d'Alès et de son agglomération : conférences\, spectacles\, expositions\, musique...
X-WR-RELCALID:69319016
BEGIN:VEVENT
UID:69319016//34106350//2026-11-25//13:30:00Z
DTSTART:20261125T133000Z
DTEND:20261125T153000Z
DTSTAMP:20260422T103900Z
TZID:Europe-Paris
SUMMARY:Chercheur de météorites
DESCRIPTION:Atelier de découverte de l'Astronomie Voir plus: https://openag
 enda.com/agenda-culturel-scene-des-mondes/events/chercheur-de-meteorites
STATUS:CONFIRMED
URL:https://openagenda.com/agenda-culturel-scene-des-mondes/events/chercheu
 r-de-meteorites
LAST-MODIFIED:20260112T075200Z
LOCATION:École municipale d’Astronomie - Pôle Culturel et Scientifique\, 15
 5 rue du Faubourg de Rochebelle\, 30100 Alès
GEO:44.130207;4.068889
ORGANIZER:OA
END:VEVENT
END:VCALENDAR