BEGIN:VCALENDAR
VERSION:2.0
PRODID:-//Agenda Culturel Scène des Mondes//agenda::fr
METHOD:PUBLISH
X-WR-CALNAME:Agenda Culturel Scène des Mondes
X-WR-CALDESC:Toute l'actualité culturelle d'Alès et de son agglomération : conférences\, spectacles\, expositions\, musique...
X-WR-RELCALID:69319016
BEGIN:VEVENT
UID:69319016//96230693//2026-05-08//10:00:00Z
DTSTART:20260508T100000Z
DTEND:20260508T215900Z
DTSTAMP:20260420T190300Z
TZID:Europe-Paris
SUMMARY:Cevenn’ Swing Festival
DESCRIPTION:1re édition organisée par l’association Swing’Alès\, dans le ca
 dre des commémorations du 8-mai-1945. Voir plus: https://openagenda.com/ag
 enda-culturel-scene-des-mondes/events/cevenn-swing-festival
STATUS:CONFIRMED
URL:https://openagenda.com/agenda-culturel-scene-des-mondes/events/cevenn-s
 wing-festival
LAST-MODIFIED:20260420T093400Z
LOCATION:Alès - 30100 Alès
GEO:44.125367;4.085282
ORGANIZER:OA
END:VEVENT
END:VCALENDAR