BEGIN:VCALENDAR
VERSION:2.0
PRODID:-//Agenda Culturel Scène des Mondes//agenda::fr
METHOD:PUBLISH
X-WR-CALNAME:Agenda Culturel Scène des Mondes
X-WR-CALDESC:Toute l'actualité culturelle d'Alès et de son agglomération : conférences\, spectacles\, expositions\, musique...
X-WR-RELCALID:69319016
BEGIN:VEVENT
UID:69319016//87660928//2026-06-05//12:00:00Z
DTSTART:20260605T120000Z
DTEND:20260605T143000Z
DTSTAMP:20260422T173400Z
TZID:Europe-Paris
SUMMARY:Grand concours d'oralité du Prix Cabri Jeunes
DESCRIPTION:3ème Édition Voir plus: https://openagenda.com/agenda-culturel-
 scene-des-mondes/events/cabri-jeunes-621815
STATUS:CONFIRMED
URL:https://openagenda.com/agenda-culturel-scene-des-mondes/events/cabri-je
 unes-621815
LAST-MODIFIED:20260422T130900Z
LOCATION:Espace Alès-Cazot - Rue Jules Cazot\, 30100 Alès
GEO:44.124449;4.074879
ORGANIZER:OA
END:VEVENT
END:VCALENDAR