BEGIN:VCALENDAR
VERSION:2.0
PRODID:-//Agenda Culturel Scène des Mondes//agenda::fr
METHOD:PUBLISH
X-WR-CALNAME:Agenda Culturel Scène des Mondes
X-WR-CALDESC:Toute l'actualité culturelle d'Alès et de son agglomération : conférences\, spectacles\, expositions\, musique...
X-WR-RELCALID:69319016
BEGIN:VEVENT
UID:69319016//63410483//2026-05-13//07:45:00Z
DTSTART:20260513T074500Z
DTEND:20260513T081500Z
DTSTAMP:20260422T134100Z
TZID:Europe-Paris
SUMMARY:Bébés lecteurs
DESCRIPTION:Pour les 18 mois-3 ans. Voir plus: https://openagenda.com/agend
 a-culturel-scene-des-mondes/events/bebes-lecteurs-3894174
STATUS:CONFIRMED
URL:https://openagenda.com/agenda-culturel-scene-des-mondes/events/bebes-le
 cteurs-3894174
LAST-MODIFIED:20260409T132000Z
LOCATION:Médiathèque de Salindres - 31 rue de Cambis\, 30340 Salindres
GEO:44.167632;4.160822
ORGANIZER:OA
END:VEVENT
END:VCALENDAR