BEGIN:VCALENDAR
VERSION:2.0
PRODID:-//Agenda Culturel Scène des Mondes//agenda::fr
METHOD:PUBLISH
X-WR-CALNAME:Agenda Culturel Scène des Mondes
X-WR-CALDESC:Toute l'actualité culturelle d'Alès et de son agglomération : conférences\, spectacles\, expositions\, musique...
X-WR-RELCALID:69319016
BEGIN:VEVENT
UID:69319016//35993318//2026-05-23//07:00:00Z
DTSTART:20260523T070000Z
DTEND:20260523T140000Z
DTSTAMP:20260422T120900Z
TZID:Europe-Paris
SUMMARY:FIRA - Festival de la Randonnée en Cévennes
DESCRIPTION:Balade urbaine "La Grand'Combe\, une ville champignon qui fête 
 ses 180 ans !" Voir plus: https://openagenda.com/agenda-culturel-scene-des
 -mondes/events/balade-en-sol-mineur-sentier-du-chateau-de-trouillas-463347
 5
STATUS:CONFIRMED
URL:https://openagenda.com/agenda-culturel-scene-des-mondes/events/balade-e
 n-sol-mineur-sentier-du-chateau-de-trouillas-4633475
LAST-MODIFIED:20260422T094000Z
LOCATION:Maison du Mineur - Rue Victor Fumat\, 30110 La Grand'Combe
GEO:44.22069;4.034158
ORGANIZER:OA
END:VEVENT
END:VCALENDAR