BEGIN:VCALENDAR
VERSION:2.0
PRODID:-//Agenda Culturel Scène des Mondes//agenda::fr
METHOD:PUBLISH
X-WR-CALNAME:Agenda Culturel Scène des Mondes
X-WR-CALDESC:Toute l'actualité culturelle d'Alès et de son agglomération : conférences\, spectacles\, expositions\, musique...
X-WR-RELCALID:69319016
BEGIN:VEVENT
UID:69319016//18381461//2026-03-25//09:00:00Z
DTSTART:20260325T090000Z
DTEND:20260325T110000Z
DTSTAMP:20260422T134100Z
TZID:Europe-Paris
SUMMARY:Ateliers créatifs “mosaïque”
DESCRIPTION:Proposée par l’association Essences de vies. Voir plus: https:/
 /openagenda.com/agenda-culturel-scene-des-mondes/events/ateliers-creatifs-
 mosaique
STATUS:CONFIRMED
URL:https://openagenda.com/agenda-culturel-scene-des-mondes/events/ateliers
 -creatifs-mosaique
LAST-MODIFIED:20260325T080600Z
LOCATION:Saint-Sébastien-d’Aigrefeuille - 30140 Saint-Sébastien-d’Aigrefeui
 lle
GEO:44.1065;3.99374
ORGANIZER:OA
END:VEVENT
END:VCALENDAR