BEGIN:VCALENDAR
VERSION:2.0
PRODID:-//Agenda Culturel Scène des Mondes//agenda::fr
METHOD:PUBLISH
X-WR-CALNAME:Agenda Culturel Scène des Mondes
X-WR-CALDESC:Toute l'actualité culturelle d'Alès et de son agglomération : conférences\, spectacles\, expositions\, musique...
X-WR-RELCALID:69319016
BEGIN:VEVENT
UID:69319016//68925081//2026-05-20//12:30:00Z
DTSTART:20260520T123000Z
DTEND:20260520T143000Z
DTSTAMP:20260420T162600Z
TZID:Europe-Paris
SUMMARY:Ateliers « Corps & poésie » avec la Cie Madhuka
DESCRIPTION:L’équipe de la compagnie Madhuka vous invite à plonger au cœur 
 de votre corps et de votre imaginaire dans des ateliers "Corps & poésie". 
 Voir plus: https://openagenda.com/agenda-culturel-scene-des-mondes/events/
 ateliers-corps-and-poesie-avec-la-cie-madhuka
STATUS:CONFIRMED
URL:https://openagenda.com/agenda-culturel-scene-des-mondes/events/ateliers
 -corps-and-poesie-avec-la-cie-madhuka
LAST-MODIFIED:20260416T145500Z
LOCATION:La Verrerie\, Pôle National Cirque Occitanie - 155 rue Faubourg de
  Rochebelle\, 30100 Alès
GEO:44.130064;4.068028
ORGANIZER:OA
END:VEVENT
END:VCALENDAR