BEGIN:VCALENDAR
VERSION:2.0
PRODID:-//Agenda Culturel Scène des Mondes//agenda::fr
METHOD:PUBLISH
X-WR-CALNAME:Agenda Culturel Scène des Mondes
X-WR-CALDESC:Toute l'actualité culturelle d'Alès et de son agglomération : conférences\, spectacles\, expositions\, musique...
X-WR-RELCALID:69319016
BEGIN:VEVENT
UID:69319016//94453598//2026-06-07//08:00:00Z
DTSTART:20260607T080000Z
DTEND:20260607T090000Z
DTSTAMP:20260422T141400Z
TZID:Europe-Paris
SUMMARY:Atelier "SPIPOLL"
DESCRIPTION:Devenez explorateur de la biodiversité. Voir plus: https://open
 agenda.com/agenda-culturel-scene-des-mondes/events/atelier-spipoll
STATUS:CONFIRMED
URL:https://openagenda.com/agenda-culturel-scene-des-mondes/events/atelier-
 spipoll
LAST-MODIFIED:20260420T133900Z
LOCATION:Les Terrasses du Bosquet - Rue d’Hombres Firmas\, parc du Bosquet\
 , 30100 Alès
GEO:44.125345;4.074773
ORGANIZER:OA
END:VEVENT
END:VCALENDAR