BEGIN:VCALENDAR
VERSION:2.0
PRODID:-//Agenda Culturel Scène des Mondes//agenda::fr
METHOD:PUBLISH
X-WR-CALNAME:Agenda Culturel Scène des Mondes
X-WR-CALDESC:Toute l'actualité culturelle d'Alès et de son agglomération : conférences\, spectacles\, expositions\, musique...
X-WR-RELCALID:69319016
BEGIN:VEVENT
UID:69319016//53933943//2026-05-06//12:00:00Z
DTSTART:20260506T120000Z
DTEND:20260506T150000Z
DTSTAMP:20260420T160400Z
TZID:Europe-Paris
SUMMARY:Atelier Scénographie Vivante
DESCRIPTION:Venez partager votre Rochebelle — vos sons\, vos souvenirs\, vo
 s lieux — et fabriquer avec nous une installation qui raconte le quartier 
 autrement. Voir plus: https://openagenda.com/agenda-culturel-scene-des-mon
 des/events/atelier-scenographie-vivante
STATUS:CONFIRMED
URL:https://openagenda.com/agenda-culturel-scene-des-mondes/events/atelier-
 scenographie-vivante
LAST-MODIFIED:20260420T094100Z
LOCATION:Pôle Culturel et Scientifique de Rochebelle - Auditorium - 155 rue
  du Faubourg de Rochebelle\, 30100 Alès
GEO:44.130064;4.068028
ORGANIZER:OA
END:VEVENT
END:VCALENDAR