BEGIN:VCALENDAR
VERSION:2.0
PRODID:-//Agenda Culturel Scène des Mondes//agenda::fr
METHOD:PUBLISH
X-WR-CALNAME:Agenda Culturel Scène des Mondes
X-WR-CALDESC:Toute l'actualité culturelle d'Alès et de son agglomération : conférences\, spectacles\, expositions\, musique...
X-WR-RELCALID:69319016
BEGIN:VEVENT
UID:69319016//77627416//2026-02-02//18:00:00Z
DTSTART:20260202T180000Z
DTEND:20260202T193000Z
DTSTAMP:20260422T120400Z
TZID:Europe-Paris
SUMMARY:Atelier libre de dessin de modèle vivant
DESCRIPTION:Tous les 1ers lundis du mois au Musée du Colombier\, atelier li
 bre de dessin sur modèle vivant. Une étude complexe et fascinante du corps
 . Voir plus: https://openagenda.com/agenda-culturel-scene-des-mondes/event
 s/atelier-libre-de-dessin-de-modele-vivant
STATUS:CONFIRMED
URL:https://openagenda.com/agenda-culturel-scene-des-mondes/events/atelier-
 libre-de-dessin-de-modele-vivant
LAST-MODIFIED:20260408T133700Z
LOCATION:Musée du Colombier - Rue Jean Mayodon\, 30100 Alès
GEO:44.129151;4.081047
ORGANIZER:OA
END:VEVENT
END:VCALENDAR