BEGIN:VCALENDAR
VERSION:2.0
PRODID:-//Agenda Culturel Scène des Mondes//agenda::fr
METHOD:PUBLISH
X-WR-CALNAME:Agenda Culturel Scène des Mondes
X-WR-CALDESC:Toute l'actualité culturelle d'Alès et de son agglomération : conférences\, spectacles\, expositions\, musique...
X-WR-RELCALID:69319016
BEGIN:VEVENT
UID:69319016//17733780//2026-04-15//13:30:00Z
DTSTART:20260415T133000Z
DTEND:20260415T153000Z
DTSTAMP:20260422T142100Z
TZID:Europe-Paris
SUMMARY:Atelier d’écriture
DESCRIPTION:Animé par Claudy Vellutini. Sur inscription\, places limitées. 
 Voir plus: https://openagenda.com/agenda-culturel-scene-des-mondes/events/
 atelier-decriture-4455551
STATUS:CONFIRMED
URL:https://openagenda.com/agenda-culturel-scene-des-mondes/events/atelier-
 decriture-4455551
LAST-MODIFIED:20260409T133200Z
LOCATION:Médiathèque de Salindres - 31 rue de Cambis\, 30340 Salindres
GEO:44.167632;4.160822
ORGANIZER:OA
END:VEVENT
END:VCALENDAR