BEGIN:VCALENDAR
VERSION:2.0
PRODID:-//Agenda Culturel Scène des Mondes//agenda::fr
METHOD:PUBLISH
X-WR-CALNAME:Agenda Culturel Scène des Mondes
X-WR-CALDESC:Toute l'actualité culturelle d'Alès et de son agglomération : conférences\, spectacles\, expositions\, musique...
X-WR-RELCALID:69319016
BEGIN:VEVENT
UID:69319016//79236664//2026-05-07//12:00:00Z
DTSTART:20260507T120000Z
DTEND:20260507T133000Z
DTSTAMP:20260422T155000Z
TZID:Europe-Paris
SUMMARY:Atelier d’écriture
DESCRIPTION:Proposé par la médiathèque de Saint-Jean-du-Gard Voir plus: htt
 ps://openagenda.com/agenda-culturel-scene-des-mondes/events/atelier-decrit
 ure-1990077
STATUS:CONFIRMED
URL:https://openagenda.com/agenda-culturel-scene-des-mondes/events/atelier-
 decriture-1990077
LAST-MODIFIED:20260420T070700Z
LOCATION:Médiathèque de Saint-Jean-du-Gard - Rue Olivier de Serres\, 30270 
 Saint-Jean-du-Gard
GEO:44.104379;3.885121
ORGANIZER:OA
END:VEVENT
END:VCALENDAR