BEGIN:VCALENDAR
VERSION:2.0
PRODID:-//Agenda Culturel Scène des Mondes//agenda::fr
METHOD:PUBLISH
X-WR-CALNAME:Agenda Culturel Scène des Mondes
X-WR-CALDESC:Toute l'actualité culturelle d'Alès et de son agglomération : conférences\, spectacles\, expositions\, musique...
X-WR-RELCALID:69319016
BEGIN:VEVENT
UID:69319016//52714190//2026-05-30//07:00:00Z
DTSTART:20260530T070000Z
DTEND:20260530T100000Z
DTSTAMP:20260422T140800Z
TZID:Europe-Paris
SUMMARY:Atelier créatif : ramène tes cartes
DESCRIPTION:Création de cartes d’artistes avec Pat Fimo. Voir plus: https:/
 /openagenda.com/agenda-culturel-scene-des-mondes/events/atelier-creatif-ra
 mene-tes-cartes
STATUS:CONFIRMED
URL:https://openagenda.com/agenda-culturel-scene-des-mondes/events/atelier-
 creatif-ramene-tes-cartes
LAST-MODIFIED:20260420T093400Z
LOCATION:Médiathèque - Place du Millénaire\, 30380 Saint-Christol-lès-Alès
GEO:44.082895;4.077748
ORGANIZER:OA
END:VEVENT
END:VCALENDAR