BEGIN:VCALENDAR
VERSION:2.0
PRODID:-//Agenda Culturel Scène des Mondes//agenda::fr
METHOD:PUBLISH
X-WR-CALNAME:Agenda Culturel Scène des Mondes
X-WR-CALDESC:Toute l'actualité culturelle d'Alès et de son agglomération : conférences\, spectacles\, expositions\, musique...
X-WR-RELCALID:69319016
BEGIN:VEVENT
UID:69319016//30073271//2026-02-04//09:00:00Z
DTSTART:20260204T090000Z
DTEND:20260204T103000Z
DTSTAMP:20260422T141400Z
TZID:Europe-Paris
SUMMARY:Atelier créatif
DESCRIPTION:Fabrication DIY\, peinture\, argile\, … Pour les 6-11 ans. Voir
  plus: https://openagenda.com/agenda-culturel-scene-des-mondes/events/atel
 ier-creatif-9082026
STATUS:CONFIRMED
URL:https://openagenda.com/agenda-culturel-scene-des-mondes/events/atelier-
 creatif-9082026
LAST-MODIFIED:20260130T093200Z
LOCATION:Association Ptites et Grandes Combines - Boulevard Gambetta\, 3010
 0 Alès
GEO:44.126185;4.082786
ORGANIZER:OA
END:VEVENT
END:VCALENDAR