BEGIN:VCALENDAR
VERSION:2.0
PRODID:-//Agenda Culturel Scène des Mondes//agenda::fr
METHOD:PUBLISH
X-WR-CALNAME:Agenda Culturel Scène des Mondes
X-WR-CALDESC:Toute l'actualité culturelle d'Alès et de son agglomération : conférences\, spectacles\, expositions\, musique...
X-WR-RELCALID:69319016
BEGIN:VEVENT
UID:69319016//21791183//2026-05-14//08:30:00Z
DTSTART:20260514T083000Z
DTEND:20260514T100000Z
DTSTAMP:20260422T121300Z
TZID:Europe-Paris
SUMMARY:Atelier poterie
DESCRIPTION:Poterie avec et sans tour\, modelage spontané. Voir plus: https
 ://openagenda.com/agenda-culturel-scene-des-mondes/events/atelier-creatif-
 123718
STATUS:CONFIRMED
URL:https://openagenda.com/agenda-culturel-scene-des-mondes/events/atelier-
 creatif-123718
LAST-MODIFIED:20260420T075000Z
LOCATION:Créativ'Conscience - 90 impasse des Chênes\, 30360 Martignargues
GEO:44.041071;4.179906
ORGANIZER:OA
END:VEVENT
END:VCALENDAR