BEGIN:VCALENDAR
VERSION:2.0
PRODID:-//Agenda Culturel Scène des Mondes//agenda::fr
METHOD:PUBLISH
X-WR-CALNAME:Agenda Culturel Scène des Mondes
X-WR-CALDESC:Toute l'actualité culturelle d'Alès et de son agglomération : conférences\, spectacles\, expositions\, musique...
X-WR-RELCALID:69319016
BEGIN:VEVENT
UID:69319016//53060519//2026-04-01//13:00:00Z
DTSTART:20260401T130000Z
DTEND:20260401T140000Z
DTSTAMP:20260422T134100Z
TZID:Europe-Paris
SUMMARY:Gang des lecteurs
DESCRIPTION:Atelier Voir plus: https://openagenda.com/agenda-culturel-scene
 -des-mondes/events/atelier-5365049
STATUS:CONFIRMED
URL:https://openagenda.com/agenda-culturel-scene-des-mondes/events/atelier-
 5365049
LAST-MODIFIED:20260313T132800Z
LOCATION:mediathèque alphonse daudet - Espace Atelier - 24 rue edgar quinet
  30100 ales
GEO:44.123987;4.083278
ORGANIZER:OA
END:VEVENT
END:VCALENDAR