BEGIN:VCALENDAR
VERSION:2.0
PRODID:-//Agenda Culturel Scène des Mondes//agenda::fr
METHOD:PUBLISH
X-WR-CALNAME:Agenda Culturel Scène des Mondes
X-WR-CALDESC:Toute l'actualité culturelle d'Alès et de son agglomération : conférences\, spectacles\, expositions\, musique...
X-WR-RELCALID:69319016
BEGIN:VEVENT
UID:69319016//70055932//2026-05-04//07:00:00Z
DTSTART:20260504T070000Z
DTEND:20260504T100000Z
DTSTAMP:20260422T133500Z
TZID:Europe-Paris
SUMMARY:Artistes en Herbe et Impro’Visions !
DESCRIPTION:Peintures\, Kokedama (objet végétal du Japon)\, lampes décorati
 ves\, présentés par l’association UNAPEI 30\, avec la participation des je
 unes du Dispositif Intégré Médico-Éducatif de l’IME Rochebelle. Voir plus:
  https://openagenda.com/agenda-culturel-scene-des-mondes/events/artistes-e
 n-herbe-et-improvisions
STATUS:CONFIRMED
URL:https://openagenda.com/agenda-culturel-scene-des-mondes/events/artistes
 -en-herbe-et-improvisions
LAST-MODIFIED:20260413T085800Z
LOCATION:Espace André Chamson - 2 boulevard Louis Blanc\, 30100 Alès
GEO:44.126761;4.079408
ORGANIZER:OA
END:VEVENT
END:VCALENDAR