BEGIN:VCALENDAR
VERSION:2.0
PRODID:-//Agenda Culturel Scène des Mondes//agenda::fr
METHOD:PUBLISH
X-WR-CALNAME:Agenda Culturel Scène des Mondes
X-WR-CALDESC:Toute l'actualité culturelle d'Alès et de son agglomération : conférences\, spectacles\, expositions\, musique...
X-WR-RELCALID:69319016
BEGIN:VEVENT
UID:69319016//97624513//2026-12-30//13:30:00Z
DTSTART:20261230T133000Z
DTEND:20261230T153000Z
DTSTAMP:20260422T103800Z
TZID:Europe-Paris
SUMMARY:Apprenti chercheur en astronomie
DESCRIPTION:Atelier de découverte de l'Astronomie Voir plus: https://openag
 enda.com/agenda-culturel-scene-des-mondes/events/apprenti-chercheur-en-ast
 ronomie
STATUS:CONFIRMED
URL:https://openagenda.com/agenda-culturel-scene-des-mondes/events/apprenti
 -chercheur-en-astronomie
LAST-MODIFIED:20260112T075100Z
LOCATION:École municipale d’Astronomie - Pôle Culturel et Scientifique\, 15
 5 rue du Faubourg de Rochebelle\, 30100 Alès
GEO:44.130207;4.068889
ORGANIZER:OA
END:VEVENT
END:VCALENDAR