BEGIN:VCALENDAR
VERSION:2.0
PRODID:-//Agenda Culturel Scène des Mondes//agenda::fr
METHOD:PUBLISH
X-WR-CALNAME:Agenda Culturel Scène des Mondes
X-WR-CALDESC:Toute l'actualité culturelle d'Alès et de son agglomération : conférences\, spectacles\, expositions\, musique...
X-WR-RELCALID:69319016
BEGIN:VEVENT
UID:69319016//87229151//2026-05-20//08:00:00Z
DTSTART:20260520T080000Z
DTEND:20260520T090000Z
DTSTAMP:20260422T142100Z
TZID:Europe-Paris
SUMMARY:Alex raconte...
DESCRIPTION:Des histoires pour petits et grands. Voir plus: https://openage
 nda.com/agenda-culturel-scene-des-mondes/events/alex-raconte
STATUS:CONFIRMED
URL:https://openagenda.com/agenda-culturel-scene-des-mondes/events/alex-rac
 onte
LAST-MODIFIED:20260420T080400Z
LOCATION:Médiathèque - Place du Millénaire\, 30380 Saint-Christol-lès-Alès
GEO:44.082895;4.077748
ORGANIZER:OA
END:VEVENT
END:VCALENDAR