BEGIN:VCALENDAR
VERSION:2.0
PRODID:-//Agenda Culturel Scène des Mondes//agenda::fr
METHOD:PUBLISH
X-WR-CALNAME:Agenda Culturel Scène des Mondes
X-WR-CALDESC:Toute l'actualité culturelle d'Alès et de son agglomération : conférences\, spectacles\, expositions\, musique...
X-WR-RELCALID:69319016
BEGIN:VEVENT
UID:69319016//13095685//2026-05-08//08:00:00Z
DTSTART:20260508T080000Z
DTEND:20260508T170000Z
DTSTAMP:20260419T170600Z
TZID:Europe-Paris
SUMMARY:4e Festival africain
DESCRIPTION:Organisé par l’association des Sénégalais Cévenols. Voir plus: 
 https://openagenda.com/agenda-culturel-scene-des-mondes/events/4e-festival
 -africain
STATUS:CONFIRMED
URL:https://openagenda.com/agenda-culturel-scene-des-mondes/events/4e-festi
 val-africain
LAST-MODIFIED:20260410T085200Z
LOCATION:Espace Pélico - 2 rue Pélico\, 30140 Anduze
GEO:44.05359;3.987173
ORGANIZER:OA
END:VEVENT
END:VCALENDAR